BEGIN:VCALENDAR
VERSION:2.0
PRODID:-//wp-events-plugin.com//7.2.3.1//EN
BEGIN:VEVENT
UID:11@e-akademie.li
DTSTART;VALUE=DATE:20260504
DTEND;VALUE=DATE:20260508
DTSTAMP:20260413T075010Z
URL:https://e-akademie.li/events/tca-seminar-ecological-sustainable-projec
 t-management-in-erasmus-projects-2/
SUMMARY:TCA / Seminar "Ecological & Sustainable Project Management in Erasm
 us+ Projects"
DESCRIPTION:TCA / Seminar "EcoSu PM - Ecological and Sustainable ProjectMan
 agement in Erasmus+ Projects": from 04.-07. May 2026 at hotel kommod in Ru
 ggell. Please register at https://salto-et.net to book places (https://sal
 to-et.net/events/show/LI01_0850_TSS_2025)Training people to successfully m
 anage Erasmus+ projects and to move towards ecological and sustainable pro
 ject management\, as well as supporting the development of cooperation bet
 ween organisations from Europe to improve the implementation of the Erasmu
 s+ programme in their country.
CATEGORIES:Seminar,TCA
LOCATION:Seminarhotel kommod Ruggell\, Industriering 14\, Ruggell\, 9491\, 
 Liechtenstein
X-APPLE-STRUCTURED-LOCATION;VALUE=URI;X-ADDRESS=Industriering 14\, Ruggell\
 , 9491\, Liechtenstein;X-APPLE-RADIUS=100;X-TITLE=Seminarhotel kommod Rugg
 ell:geo:0,0
END:VEVENT
END:VCALENDAR